Package: hgu133abarcodevecs Version: 1.48.0 Command: /home/biocbuild/bbs-3.22-bioc/R/bin/R CMD check --install=check:hgu133abarcodevecs.install-out.txt --library=/home/biocbuild/bbs-3.22-bioc/R/site-library --timings hgu133abarcodevecs_1.48.0.tar.gz StartedAt: 2025-11-13 12:33:27 -0500 (Thu, 13 Nov 2025) EndedAt: 2025-11-13 12:34:11 -0500 (Thu, 13 Nov 2025) EllapsedTime: 44.1 seconds RetCode: 0 Status: OK CheckDir: hgu133abarcodevecs.Rcheck Warnings: 0