Package: genomationData Version: 1.42.0 Maintainer: Vedran Franke MaintainerEmail: vedran.franke at gmail.com git_url: https://git.bioconductor.org/packages/genomationData git_branch: RELEASE_3_22 git_last_commit: 4a8c0fa git_last_commit_date: 2025-10-29 09:55:57 -0500 (Wed, 29 Oct 2025)