Package: flowWorkspaceData Version: 3.22.0 Maintainer: Mike Jiang MaintainerEmail: wjiang2 at fhcrc.org git_url: https://git.bioconductor.org/packages/flowWorkspaceData git_branch: RELEASE_3_22 git_last_commit: 99bf675 git_last_commit_date: 2025-10-29 09:32:29 -0400 (Wed, 29 Oct 2025)