Package: brgedata Version: 1.32.0 Command: /home/biocbuild/bbs-3.22-bioc/R/bin/R CMD build --keep-empty-dirs --no-resave-data brgedata StartedAt: 2025-10-30 11:13:06 -0400 (Thu, 30 Oct 2025) EndedAt: 2025-10-30 11:17:44 -0400 (Thu, 30 Oct 2025) EllapsedTime: 278.4 seconds RetCode: 0 Status: OK PackageFile: brgedata_1.32.0.tar.gz PackageFileSize: 297 MiB