Package: aracne.networks Version: 1.36.0 Maintainer: Federico M. Giorgi , Mariano Alvarez MaintainerEmail: reef103 at gmail.com git_url: https://git.bioconductor.org/packages/aracne.networks git_branch: RELEASE_3_22 git_last_commit: f3c9ed6 git_last_commit_date: 2025-10-29 09:58:45 -0500 (Wed, 29 Oct 2025)