Back to Build/check report for BioC 3.22 experimental data
[A]BCDEFGHIJKLMNOPQRSTUVWXYZ

This page was generated on 2025-11-04 15:41 -0500 (Tue, 04 Nov 2025).

HostnameOSArch (*)R versionInstalled pkgs
nebbiolo2Linux (Ubuntu 24.04.3 LTS)x86_644.5.1 Patched (2025-08-23 r88802) -- "Great Square Root" 4902
Click on any hostname to see more info about the system (e.g. compilers)      (*) as reported by 'uname -p', except on Windows and Mac OS X

All results for package aracne.networks


To the developers/maintainers of the aracne.networks package:
- Use the following Renviron settings to reproduce errors and warnings.
- If 'R CMD check' started to fail recently on the Linux builder(s) over a missing dependency, add the missing dependency to 'Suggests:' in your DESCRIPTION file. See Renviron.bioc for more information.

raw results

Package 15/435HostnameOS / ArchINSTALLBUILDCHECK
aracne.networks 1.36.0  (landing page)
Federico M. Giorgi , Mariano Alvarez
Snapshot Date: 2025-11-04 07:30 -0500 (Tue, 04 Nov 2025)
git_url: https://git.bioconductor.org/packages/aracne.networks
git_branch: RELEASE_3_22
git_last_commit: f3c9ed6
git_last_commit_date: 2025-10-29 09:58:45 -0500 (Wed, 29 Oct 2025)
nebbiolo2Linux (Ubuntu 24.04.3 LTS) / x86_64  OK    OK    WARNINGS  YES