Package: adductData Version: 1.26.0 Command: /home/biocbuild/bbs-3.22-bioc/R/bin/R CMD build --keep-empty-dirs --no-resave-data adductData StartedAt: 2025-10-30 11:11:42 -0400 (Thu, 30 Oct 2025) EndedAt: 2025-10-30 11:11:58 -0400 (Thu, 30 Oct 2025) EllapsedTime: 16.8 seconds RetCode: 0 Status: OK PackageFile: adductData_1.26.0.tar.gz PackageFileSize: 7.572 KiB