Package: WGSmapp Version: 1.22.0 Command: /home/biocbuild/bbs-3.22-bioc/R/bin/R CMD build --keep-empty-dirs --no-resave-data WGSmapp StartedAt: 2025-11-06 11:48:27 -0500 (Thu, 06 Nov 2025) EndedAt: 2025-11-06 11:48:45 -0500 (Thu, 06 Nov 2025) EllapsedTime: 18.5 seconds RetCode: 0 Status: OK PackageFile: WGSmapp_1.22.0.tar.gz PackageFileSize: 195.7 MiB