Package: WGSmapp Version: 1.22.0 Maintainer: Rujin Wang MaintainerEmail: rujin at email.unc.edu git_url: https://git.bioconductor.org/packages/WGSmapp git_branch: RELEASE_3_22 git_last_commit: f6fe54e git_last_commit_date: 2025-10-29 10:02:14 -0500 (Wed, 29 Oct 2025)