Package: TCGAMethylation450k Version: 1.46.0 Maintainer: Sean Davis MaintainerEmail: sdavis2 at mail.nih.gov git_url: https://git.bioconductor.org/packages/TCGAMethylation450k git_branch: RELEASE_3_22 git_last_commit: f7532f0 git_last_commit_date: 2025-10-29 09:32:51 -0400 (Wed, 29 Oct 2025)