Package: SVM2CRMdata Version: 1.42.0 Command: /home/biocbuild/bbs-3.22-bioc/R/bin/R CMD build --keep-empty-dirs --no-resave-data SVM2CRMdata StartedAt: 2025-11-04 11:44:17 -0500 (Tue, 04 Nov 2025) EndedAt: 2025-11-04 11:47:43 -0500 (Tue, 04 Nov 2025) EllapsedTime: 206.1 seconds RetCode: 0 Status: OK PackageFile: SVM2CRMdata_1.42.0.tar.gz PackageFileSize: 345 MiB