Package: STexampleData Version: 1.18.0 Command: /home/biocbuild/bbs-3.22-bioc/R/bin/R CMD INSTALL STexampleData StartedAt: 2025-10-30 11:00:44 -0400 (Thu, 30 Oct 2025) EndedAt: 2025-10-30 11:01:22 -0400 (Thu, 30 Oct 2025) EllapsedTime: 37.5 seconds RetCode: 0 Status: OK