Package: STexampleData Version: 1.17.1 Command: /home/biocbuild/bbs-3.22-bioc/R/bin/R CMD check --install=check:STexampleData.install-out.txt --library=/home/biocbuild/bbs-3.22-bioc/R/site-library --timings STexampleData_1.17.1.tar.gz StartedAt: 2025-10-28 13:06:36 -0400 (Tue, 28 Oct 2025) EndedAt: 2025-10-28 13:11:51 -0400 (Tue, 28 Oct 2025) EllapsedTime: 315.8 seconds RetCode: 0 Status: OK CheckDir: STexampleData.Rcheck Warnings: 0