Package: STexampleData Version: 1.18.0 Command: /home/biocbuild/bbs-3.22-bioc/R/bin/R CMD build --keep-empty-dirs --no-resave-data STexampleData StartedAt: 2025-10-30 11:55:07 -0400 (Thu, 30 Oct 2025) EndedAt: 2025-10-30 11:57:20 -0400 (Thu, 30 Oct 2025) EllapsedTime: 133.1 seconds RetCode: 0 Status: OK PackageFile: STexampleData_1.18.0.tar.gz PackageFileSize: 611.3 KiB