Package: RnBeads.hg19 Version: 1.42.0 Maintainer: RnBeadsAnnotationCreator MaintainerEmail: rnbeads at mpi-inf.mpg.de git_url: https://git.bioconductor.org/packages/RnBeads.hg19 git_branch: RELEASE_3_22 git_last_commit: cb8d172 git_last_commit_date: 2025-10-29 09:56:29 -0500 (Wed, 29 Oct 2025)