Package: RTCGA.PANCAN12 Version: 1.38.0 Command: /home/biocbuild/bbs-3.22-bioc/R/bin/R CMD check --install=check:RTCGA.PANCAN12.install-out.txt --library=/home/biocbuild/bbs-3.22-bioc/R/site-library --timings RTCGA.PANCAN12_1.38.0.tar.gz StartedAt: 2025-11-04 12:53:16 -0500 (Tue, 04 Nov 2025) EndedAt: 2025-11-04 12:55:18 -0500 (Tue, 04 Nov 2025) EllapsedTime: 121.6 seconds RetCode: 0 Status: OK CheckDir: RTCGA.PANCAN12.Rcheck Warnings: 0