Package: PhyloProfileData Version: 1.24.0 Command: /home/biocbuild/bbs-3.22-bioc/R/bin/R CMD INSTALL PhyloProfileData StartedAt: 2025-11-04 10:57:51 -0500 (Tue, 04 Nov 2025) EndedAt: 2025-11-04 10:58:04 -0500 (Tue, 04 Nov 2025) EllapsedTime: 13.6 seconds RetCode: 0 Status: OK