Package: NetActivityData Version: 1.12.0 Maintainer: Carlos Ruiz-Arenas MaintainerEmail: carlos.ruiza at upf.edu git_url: https://git.bioconductor.org/packages/NetActivityData git_branch: RELEASE_3_22 git_last_commit: 1dd59f8 git_last_commit_date: 2025-10-29 10:05:14 -0500 (Wed, 29 Oct 2025)