Package: NCIgraphData Version: 1.45.0 Command: /home/biocbuild/bbs-3.22-bioc/R/bin/R CMD INSTALL NCIgraphData StartedAt: 2025-07-24 10:55:50 -0400 (Thu, 24 Jul 2025) EndedAt: 2025-07-24 10:55:57 -0400 (Thu, 24 Jul 2025) EllapsedTime: 6.3 seconds RetCode: 0 Status: OK