Package: MouseAgingData Version: 1.5.0 Command: /home/biocbuild/bbs-3.22-bioc/R/bin/R CMD check --install=check:MouseAgingData.install-out.txt --library=/home/biocbuild/bbs-3.22-bioc/R/site-library --timings MouseAgingData_1.5.0.tar.gz StartedAt: 2025-10-28 12:44:05 -0400 (Tue, 28 Oct 2025) EndedAt: 2025-10-28 12:47:33 -0400 (Tue, 28 Oct 2025) EllapsedTime: 208.1 seconds RetCode: 0 Status: OK CheckDir: MouseAgingData.Rcheck Warnings: 0