Package: MerfishData Version: 1.12.0 Command: /home/biocbuild/bbs-3.22-bioc/R/bin/R CMD INSTALL MerfishData StartedAt: 2025-11-04 10:59:37 -0500 (Tue, 04 Nov 2025) EndedAt: 2025-11-04 11:00:07 -0500 (Tue, 04 Nov 2025) EllapsedTime: 30.2 seconds RetCode: 0 Status: OK