Package: MerfishData Version: 1.12.0 Command: /home/biocbuild/bbs-3.22-bioc/R/bin/R CMD build --keep-empty-dirs --no-resave-data MerfishData StartedAt: 2025-11-04 11:29:28 -0500 (Tue, 04 Nov 2025) EndedAt: 2025-11-04 11:37:56 -0500 (Tue, 04 Nov 2025) EllapsedTime: 508.7 seconds RetCode: 0 Status: OK PackageFile: MerfishData_1.12.0.tar.gz PackageFileSize: 24.29 MiB