Package: HighlyReplicatedRNASeq Version: 1.22.0 Maintainer: Constantin Ahlmann-Eltze MaintainerEmail: artjom31415 at googlemail.com git_url: https://git.bioconductor.org/packages/HighlyReplicatedRNASeq git_branch: RELEASE_3_22 git_last_commit: a81f0c1 git_last_commit_date: 2025-10-29 10:02:20 -0400 (Wed, 29 Oct 2025)