Package: HelloRangesData Version: 1.36.0 Command: /home/biocbuild/bbs-3.22-bioc/R/bin/R CMD build --keep-empty-dirs --no-resave-data HelloRangesData StartedAt: 2025-10-30 11:30:53 -0400 (Thu, 30 Oct 2025) EndedAt: 2025-10-30 11:31:30 -0400 (Thu, 30 Oct 2025) EllapsedTime: 37.1 seconds RetCode: 0 Status: OK PackageFile: HelloRangesData_1.36.0.tar.gz PackageFileSize: 45.73 MiB