Package: HarmonizedTCGAData Version: 1.31.0 Command: /home/biocbuild/bbs-3.22-bioc/R/bin/R CMD check --install=check:HarmonizedTCGAData.install-out.txt --library=/home/biocbuild/bbs-3.22-bioc/R/site-library --timings HarmonizedTCGAData_1.31.0.tar.gz StartedAt: 2025-10-28 12:27:22 -0400 (Tue, 28 Oct 2025) EndedAt: 2025-10-28 12:29:30 -0400 (Tue, 28 Oct 2025) EllapsedTime: 128.2 seconds RetCode: 0 Status: OK CheckDir: HarmonizedTCGAData.Rcheck Warnings: 0