Package: GWASdata Version: 1.48.0 Command: /home/biocbuild/bbs-3.22-bioc/R/bin/R CMD INSTALL GWASdata StartedAt: 2025-11-06 11:03:55 -0500 (Thu, 06 Nov 2025) EndedAt: 2025-11-06 11:04:04 -0500 (Thu, 06 Nov 2025) EllapsedTime: 8.4 seconds RetCode: 0 Status: OK