Package: GWASdata Version: 1.48.0 Command: /home/biocbuild/bbs-3.22-bioc/R/bin/R CMD check --install=check:GWASdata.install-out.txt --library=/home/biocbuild/bbs-3.22-bioc/R/site-library --timings GWASdata_1.48.0.tar.gz StartedAt: 2025-11-06 12:24:43 -0500 (Thu, 06 Nov 2025) EndedAt: 2025-11-06 12:25:22 -0500 (Thu, 06 Nov 2025) EllapsedTime: 39.7 seconds RetCode: 0 Status: OK CheckDir: GWASdata.Rcheck Warnings: 0