Package: Fletcher2013b Version: 1.46.0 Maintainer: Mauro Castro MaintainerEmail: mauro.a.castro at gmail.com git_url: https://git.bioconductor.org/packages/Fletcher2013b git_branch: RELEASE_3_22 git_last_commit: 85a698b git_last_commit_date: 2025-10-29 09:53:54 -0500 (Wed, 29 Oct 2025)