Package: DoReMiTra Version: 1.0.0 Command: /home/biocbuild/bbs-3.22-bioc/R/bin/R CMD INSTALL DoReMiTra StartedAt: 2025-11-04 11:02:34 -0500 (Tue, 04 Nov 2025) EndedAt: 2025-11-04 11:03:01 -0500 (Tue, 04 Nov 2025) EllapsedTime: 27.6 seconds RetCode: 0 Status: OK