Package: CytoMethIC Version: 1.6.0 Maintainer: Jacob Fanale MaintainerEmail: jfanale at seas.upenn.edu git_url: https://git.bioconductor.org/packages/CytoMethIC git_branch: RELEASE_3_22 git_last_commit: 9496f07 git_last_commit_date: 2025-10-29 10:06:26 -0400 (Wed, 29 Oct 2025)