Package: ChIPDBData Version: 1.0.0 Command: /home/biocbuild/bbs-3.22-bioc/R/bin/R CMD check --install=check:ChIPDBData.install-out.txt --library=/home/biocbuild/bbs-3.22-bioc/R/site-library --timings ChIPDBData_1.0.0.tar.gz StartedAt: 2025-11-04 12:06:36 -0500 (Tue, 04 Nov 2025) EndedAt: 2025-11-04 12:08:08 -0500 (Tue, 04 Nov 2025) EllapsedTime: 91.6 seconds RetCode: 0 Status: OK CheckDir: ChIPDBData.Rcheck Warnings: 0