Package: AshkenazimSonChr21 Version: 1.40.0 Command: /home/biocbuild/bbs-3.22-bioc/R/bin/R CMD INSTALL AshkenazimSonChr21 StartedAt: 2025-11-13 10:55:42 -0500 (Thu, 13 Nov 2025) EndedAt: 2025-11-13 10:55:46 -0500 (Thu, 13 Nov 2025) EllapsedTime: 4.5 seconds RetCode: 0 Status: OK