Package: AshkenazimSonChr21 Version: 1.40.0 Command: /home/biocbuild/bbs-3.22-bioc/R/bin/R CMD build --keep-empty-dirs --no-resave-data AshkenazimSonChr21 StartedAt: 2025-11-13 11:07:51 -0500 (Thu, 13 Nov 2025) EndedAt: 2025-11-13 11:08:17 -0500 (Thu, 13 Nov 2025) EllapsedTime: 25.9 seconds RetCode: 0 Status: OK PackageFile: AshkenazimSonChr21_1.40.0.tar.gz PackageFileSize: 9.756 MiB