Package: AffymetrixDataTestFiles Version: 0.48.0 Maintainer: Henrik Bengtsson MaintainerEmail: henrikb at braju.com git_url: https://git.bioconductor.org/packages/AffymetrixDataTestFiles git_branch: RELEASE_3_22 git_last_commit: d77ca79 git_last_commit_date: 2025-10-29 09:23:09 -0400 (Wed, 29 Oct 2025)