Welcome to mirrors.dotsrc.org

All our mirrors of open source software are available via http, https, ftp and an onion service. More information about our mirrors including statistics and contact information is available on our mirror info pages.

For information about dotsrc.org and our other services please go to our website.

Index of /bioconductor/checkResults/3.22/data-experiment-LATEST/

File Name  ↓ File Size  ↓ Date  ↓ 
--
-2025-04-08 19:35:03
-2025-11-04 20:41:36
-2025-11-04 20:41:35
-2025-11-04 20:41:36
-2025-11-04 20:41:36
-2025-11-04 20:41:35
-2025-11-04 20:41:37
-2025-11-04 20:41:36
-2025-11-04 20:41:35
-2025-11-04 20:41:36
-2025-11-04 20:41:36
-2025-11-04 20:41:36
-2025-11-04 20:41:36
-2025-11-04 20:41:36
-2025-11-04 20:41:36
-2025-11-04 20:41:35
-2025-11-04 20:41:36
-2025-11-04 20:41:36
-2025-11-04 20:41:37
-2025-11-04 20:41:35
-2025-11-04 20:41:36
-2025-11-04 20:41:36
-2025-11-04 20:41:36
-2025-11-04 20:41:35
-2025-11-04 20:41:36
-2025-11-04 20:41:35
-2025-11-04 20:41:36
-2025-11-04 20:41:35
-2025-11-04 20:41:35
-2025-11-04 20:41:36
-2025-11-04 20:41:36
-2025-11-04 20:41:36
-2025-11-04 20:41:35
-2025-11-04 20:41:36
-2025-11-04 20:41:36
-2025-11-04 20:41:36
-2025-11-04 20:41:36
-2025-11-04 20:41:36
-2025-11-04 20:41:36
-2025-11-04 20:41:36
-2025-11-04 20:41:36
-2025-11-04 20:41:35
-2025-11-04 20:41:36
-2025-11-04 20:41:36
-2025-11-04 20:41:36
-2025-11-04 20:41:36
-2025-11-04 20:41:36
-2025-11-04 20:41:35
-2025-11-04 20:41:36
-2025-11-04 20:41:36
-2025-11-04 20:41:36
-2025-11-04 20:41:35
-2025-11-04 20:41:36
-2025-11-04 20:41:36
-2025-11-04 20:41:36
-2025-11-04 20:41:37
-2025-11-04 20:41:36
-2025-11-04 20:41:36
-2025-11-04 20:41:36
-2025-11-04 20:41:36
-2025-11-04 20:41:36
-2025-11-04 20:41:36
-2025-11-04 20:41:36
-2025-11-04 20:41:35
-2025-11-04 20:41:35
-2025-11-04 20:41:36
-2025-11-04 20:41:36
-2025-11-04 20:41:36
-2025-11-04 20:41:35
-2025-11-04 20:41:35
-2025-11-04 20:41:35
-2025-11-04 20:41:35
-2025-04-08 19:35:04
-2025-11-04 20:41:36
-2025-11-04 20:41:36
-2025-11-04 20:41:36
-2025-11-04 20:41:36
-2025-11-04 20:41:36
-2025-11-04 20:41:36
-2025-11-04 20:41:36
-2025-11-04 20:41:36
-2025-11-04 20:41:36
-2025-11-04 20:41:36
-2025-11-04 20:41:35
-2025-11-04 20:41:36
-2025-11-04 20:41:35
-2025-11-04 20:41:35
-2025-11-04 20:41:36
-2025-11-04 20:41:36
-2025-11-04 20:41:36
-2025-11-04 20:41:36
-2025-11-04 20:41:36
-2025-11-04 20:41:36
-2025-11-04 20:41:36
-2025-11-04 20:41:35
-2025-11-04 20:41:36
-2025-11-04 20:41:35
-2025-11-04 20:41:36
-2025-11-04 20:41:36
-2025-11-04 20:41:36
-2025-11-04 20:41:35
-2025-11-04 20:41:35
-2025-11-04 20:41:36
-2025-11-04 20:41:35
-2025-11-04 20:41:36
-2025-11-04 20:41:36
-2025-11-04 20:41:35
-2025-11-04 20:41:36
-2025-11-04 20:41:35
-2025-11-04 20:41:36
-2025-11-04 20:41:36
-2025-11-04 20:41:35
-2025-11-04 20:41:36
-2025-11-04 20:41:36
-2025-11-04 20:41:36
-2025-11-04 20:41:36
-2025-11-04 20:41:36
-2025-11-04 20:41:36
-2025-11-04 20:41:35
-2025-11-04 20:41:36
-2025-11-04 20:41:36
-2025-11-04 20:41:36
-2025-11-04 20:41:36
-2025-11-04 20:41:36
-2025-11-04 20:41:36
-2025-11-04 20:41:36
-2025-11-04 20:41:36
-2025-11-04 20:41:35
-2025-11-04 20:41:35
-2025-11-04 20:41:36
-2025-11-04 20:41:36
-2025-11-04 20:41:35
-2025-11-04 20:41:35
-2025-11-04 20:41:36
-2025-11-04 20:41:36
-2025-11-04 20:41:36
-2025-11-04 20:41:36
-2025-11-04 20:41:36
-2025-11-04 20:41:36
-2025-11-04 20:41:36
-2025-11-04 20:41:36
-2025-11-04 20:41:35
-2025-11-04 20:41:36
-2025-11-04 20:41:35
-2025-11-04 20:41:36
-2025-11-04 20:41:36
-2025-11-04 20:41:35
-2025-11-04 20:41:36
-2025-11-04 20:41:37
-2025-11-04 20:41:36
-2025-11-04 20:41:36
-2025-11-04 20:41:36
-2025-11-04 20:41:35
-2025-11-04 20:41:36
-2025-11-04 20:41:36
-2025-11-04 20:41:36
-2025-11-04 20:41:35
-2025-11-04 20:41:36
-2025-11-04 20:41:36
-2025-11-04 20:41:36
-2025-11-04 20:41:36
-2025-11-04 20:41:36
-2025-11-04 20:41:36
-2025-11-04 20:41:36
-2025-11-04 20:41:36
-2025-11-04 20:41:36
-2025-11-04 20:41:36
-2025-11-04 20:41:36
-2025-11-04 20:41:35
-2025-11-04 20:41:36
-2025-11-04 20:41:36
-2025-11-04 20:41:36
-2025-11-04 20:41:36
-2025-11-04 20:41:36
-2025-11-04 20:41:36
-2025-11-04 20:41:36
-2025-11-04 20:41:36
-2025-11-04 20:41:36
-2025-11-04 20:41:36
-2025-11-04 20:41:36
-2025-11-04 20:41:36
-2025-11-04 20:41:36
-2025-11-04 20:41:36
-2025-11-04 20:41:35
-2025-11-04 20:41:36
-2025-11-04 20:41:35
-2025-11-04 20:41:37
-2025-11-04 20:41:35
-2025-11-04 20:41:36
-2025-11-04 20:41:36
-2025-11-04 20:41:36
-2025-11-04 20:41:36
-2025-11-04 20:41:36
-2025-11-04 20:41:36
-2025-11-04 20:41:36
-2025-11-04 20:41:36
-2025-11-04 20:41:35
-2025-11-04 20:41:36
-2025-11-04 20:41:36
-2025-11-04 20:41:36
-2025-11-04 20:41:37
-2025-11-04 20:41:36
-2025-11-04 20:41:36
-2025-11-04 20:41:36
-2025-11-04 20:41:36
-2025-11-04 20:41:35
-2025-11-04 20:41:35
-2025-11-04 20:41:36
-2025-11-04 20:41:35
-2025-11-04 20:41:36
-2025-11-04 20:41:36
-2025-11-04 20:41:36
-2025-11-04 20:41:35
-2025-11-04 20:41:35
-2025-11-04 20:41:36
-2025-11-04 20:41:36
-2025-11-04 20:41:36
-2025-11-04 20:41:36
-2025-11-04 20:41:35
-2025-11-04 20:41:35
-2025-11-04 20:41:36
-2025-11-04 20:41:36
-2025-11-04 20:41:36
-2025-11-04 20:41:35
-2025-11-04 20:41:36
-2025-11-04 20:41:35
-2025-11-04 20:41:37
-2025-11-04 20:41:37
-2025-11-04 20:41:36
-2025-11-04 20:41:35
-2025-11-04 20:41:36
-2025-11-04 20:41:36
-2025-11-04 20:41:36
-2025-11-04 20:41:36
-2025-11-04 20:41:36
-2025-11-04 20:41:36
-2025-11-04 20:41:36
-2025-11-04 20:41:36
-2025-11-04 20:41:36
-2025-11-04 20:41:35
-2025-11-04 20:41:36
-2025-11-04 20:41:35
-2025-11-04 20:41:36
-2025-11-04 20:41:36
-2025-11-04 20:41:35
-2025-11-04 20:41:36
-2025-11-04 20:41:36
-2025-11-04 20:41:37
-2025-11-04 20:41:36
-2025-11-04 20:41:36
-2025-11-04 20:41:35
-2025-11-04 20:41:36
-2025-11-04 20:41:36
-2025-11-04 20:41:36
-2025-11-04 20:41:36
-2025-11-04 20:41:36
-2025-11-04 20:41:37
-2025-11-04 20:41:36
-2025-11-04 20:41:36
-2025-11-04 20:41:36
-2025-11-04 20:41:36
-2025-11-04 20:41:35
-2025-11-04 20:41:36
-2025-11-04 20:41:36
-2025-11-04 20:41:36
-2025-11-04 20:41:36
-2025-11-04 20:41:36
-2025-11-04 20:41:37
-2025-11-04 20:41:36
-2025-11-04 20:41:36
-2025-11-04 20:41:36
-2025-11-04 20:41:36
-2025-11-04 20:41:36
-2025-11-04 20:41:36
-2025-11-04 20:41:36
-2025-11-04 20:41:36
-2025-11-04 20:41:36
-2025-11-04 20:41:37
-2025-11-04 20:41:36
-2025-11-04 20:41:36
-2025-11-04 20:41:36
-2025-11-04 20:41:35
-2025-11-04 20:41:35
-2025-11-04 20:41:36
-2025-11-04 20:41:35
-2025-11-04 20:41:36
-2025-11-04 20:41:36
-2025-11-04 20:41:36
-2025-11-04 20:41:36
-2025-11-04 20:41:36
-2025-11-04 20:41:36
-2025-11-04 20:41:36
-2025-11-04 20:41:35
-2025-11-04 20:41:35
-2025-11-04 20:41:35
-2025-11-04 20:41:36
-2025-11-04 20:41:35
-2025-11-04 20:41:36
-2025-11-04 20:41:36
-2025-11-04 20:41:35
-2025-11-04 20:41:36
-2025-11-04 20:41:36
-2025-11-04 20:41:35
-2025-11-04 20:41:36
-2025-11-04 20:41:36
-2025-11-04 20:41:36
-2025-11-04 20:41:36
-2025-11-04 20:41:36
-2025-11-04 20:41:35
-2025-11-04 20:41:36
-2025-11-04 20:41:36
-2025-11-04 20:41:36
-2025-11-04 20:41:36
-2025-04-08 19:35:04
-2025-11-04 20:41:35
-2025-11-04 20:41:36
-2025-11-04 20:41:36
-2025-11-04 20:41:36
-2025-11-04 20:41:36
-2025-11-04 20:41:36
-2025-11-04 20:41:36
-2025-11-04 20:41:36
-2025-11-04 20:41:36
-2025-11-04 20:41:36
-2025-11-04 20:41:36
-2025-11-04 20:41:36
-2025-11-04 20:41:36
-2025-11-04 20:41:36
-2025-11-04 20:41:36
-2025-11-04 20:41:36
-2025-11-04 20:41:36
-2025-11-04 20:41:36
-2025-11-04 20:41:37
-2025-11-04 20:41:36
-2025-11-04 20:41:36
-2025-11-04 20:41:37
-2025-11-04 20:41:36
-2025-11-04 20:41:36
-2025-11-04 20:41:35
-2025-11-04 20:41:36
-2025-11-04 20:41:36
-2025-11-04 20:41:35
-2025-11-04 20:41:36
-2025-11-04 20:41:36
-2025-11-04 20:41:35
-2025-11-04 20:41:36
-2025-11-04 20:41:36
-2025-11-04 20:41:36
-2025-11-04 20:41:36
-2025-11-04 20:41:36
-2025-11-04 20:41:36
-2025-11-04 20:41:36
-2025-11-04 20:41:36
-2025-11-04 20:41:36
-2025-11-04 20:41:36
-2025-11-04 20:41:36
-2025-11-04 20:41:36
-2025-11-04 20:41:35
-2025-11-04 20:41:37
-2025-11-04 20:41:36
-2025-11-04 20:41:36
-2025-11-04 20:41:35
-2025-11-04 20:41:36
-2025-11-04 20:41:36
-2025-11-04 20:41:36
-2025-11-04 20:41:36
-2025-11-04 20:41:36
-2025-11-04 20:41:36
-2025-11-04 20:41:36
-2025-11-04 20:41:36
-2025-11-04 20:41:35
-2025-11-04 20:41:36
-2025-11-04 20:41:36
-2025-11-04 20:41:35
-2025-11-04 20:41:35
-2025-11-04 20:41:36
-2025-11-04 20:41:36
-2025-11-04 20:41:36
-2025-11-04 20:41:36
-2025-11-04 20:41:36
-2025-11-04 20:41:36
-2025-11-04 20:41:35
-2025-11-04 20:41:36
-2025-11-04 20:41:37
-2025-11-04 20:41:35
-2025-11-04 20:41:36
-2025-11-04 20:41:36
-2025-11-04 20:41:35
-2025-11-04 20:41:37
-2025-11-04 20:41:36
-2025-11-04 20:41:37
-2025-11-04 20:41:36
-2025-11-04 20:41:36
-2025-11-04 20:41:36
-2025-11-04 20:41:36
-2025-11-04 20:41:36
-2025-11-04 20:41:35
-2025-11-04 20:41:36
-2025-11-04 20:41:35
-2025-11-04 20:41:35
-2025-11-04 20:41:36
-2025-11-04 20:41:36
-2025-11-04 20:41:36
-2025-11-04 20:41:36
-2025-11-04 20:41:36
-2025-11-04 20:41:36
-2025-11-04 20:41:35
-2025-11-04 20:41:36
-2025-11-04 20:41:36
-2025-11-04 20:41:36
-2025-11-04 20:41:35
-2025-11-04 20:41:35
-2025-11-04 20:41:36
-2025-11-04 20:41:37
-2025-11-04 20:41:36
-2025-11-04 20:41:36
-2025-11-04 20:41:36
-2025-11-04 20:41:36
-2025-11-04 20:41:36
-2025-11-04 20:41:35
-2025-11-04 20:41:37
-2025-11-04 20:41:36
-2025-11-04 20:41:36
-2025-11-04 20:41:36
-2025-11-04 20:41:36
-2025-11-04 20:41:35
-2025-11-04 20:41:35
-2025-11-04 20:41:36
-2025-11-04 20:41:36
-2025-11-04 20:41:35
-2025-11-04 20:41:36
-2025-11-04 20:41:35
-2025-11-04 20:41:36
-2025-11-04 20:41:36
-2025-11-04 20:41:36
-2025-11-04 20:41:36
-2025-11-04 20:41:36
-2025-11-04 20:41:36
0 B2025-11-04 20:41:35
2.6 KiB2025-11-04 20:41:35
3.3 KiB2025-11-04 20:41:35
6.0 KiB2025-11-04 20:41:35
7.0 KiB2025-11-04 20:41:35
7.1 KiB2025-11-04 20:41:35
7.1 KiB2025-11-04 20:41:35
7.4 KiB2025-11-04 20:41:35
11.9 KiB2025-11-04 20:41:35
17.0 KiB2025-11-04 20:41:35
46.8 KiB2025-11-04 20:41:35
47.6 KiB2025-11-04 20:41:35
537.1 KiB2025-11-04 20:41:35
571.4 KiB2025-11-04 20:41:37
1.1 MiB2025-11-04 20:41:39