Welcome to mirrors.dotsrc.org

All our mirrors of open source software are available via http, https, ftp and an onion service. More information about our mirrors including statistics and contact information is available on our mirror info pages.

For information about dotsrc.org and our other services please go to our website.

Index of /bioconductor/checkResults/3.22/data-experiment-LATEST/

File Name  ↓ File Size  ↓ Date  ↓ 
--
-2025-07-22 19:41:21
-2025-07-22 19:41:21
-2025-07-22 19:41:21
-2025-07-22 19:41:21
-2025-07-22 19:41:21
-2025-07-22 19:41:21
-2025-07-22 19:41:21
-2025-07-22 19:41:21
-2025-07-22 19:41:21
-2025-07-22 19:41:21
-2025-07-22 19:41:21
-2025-07-22 19:41:21
-2025-07-22 19:41:21
-2025-07-22 19:41:21
-2025-07-22 19:41:21
-2025-07-22 19:41:21
-2025-07-22 19:41:21
-2025-07-22 19:41:21
-2025-07-22 19:41:21
-2025-07-22 19:41:21
-2025-07-22 19:41:21
-2025-07-22 19:41:21
-2025-07-22 19:41:21
-2025-07-22 19:41:21
-2025-07-22 19:41:21
-2025-07-22 19:41:21
-2025-07-22 19:41:21
-2025-07-22 19:41:21
-2025-07-22 19:41:21
-2025-07-22 19:41:21
-2025-07-22 19:41:21
-2025-07-22 19:41:21
-2025-07-22 19:41:21
-2025-07-22 19:41:21
-2025-07-22 19:41:21
-2025-07-22 19:41:21
-2025-07-22 19:41:21
-2025-07-22 19:41:22
-2025-07-22 19:41:22
-2025-07-22 19:41:22
-2025-07-22 19:41:22
-2025-07-22 19:41:22
-2025-07-22 19:41:22
-2025-07-22 19:41:22
-2025-07-22 19:41:22
-2025-07-22 19:41:22
-2025-07-22 19:41:22
-2025-07-22 19:41:22
-2025-07-22 19:41:22
-2025-07-22 19:41:22
-2025-07-22 19:41:22
-2025-07-22 19:41:22
-2025-07-22 19:41:22
-2025-07-22 19:41:22
-2025-07-22 19:41:22
-2025-07-22 19:41:22
-2025-07-22 19:41:22
-2025-07-22 19:41:22
-2025-07-22 19:41:22
-2025-07-22 19:41:22
-2025-07-22 19:41:22
-2025-07-22 19:41:22
-2025-07-22 19:41:22
-2025-07-22 19:41:22
-2025-07-22 19:41:22
-2025-07-22 19:41:22
-2025-07-22 19:41:22
-2025-07-22 19:41:22
-2025-07-22 19:41:22
-2025-07-22 19:41:22
-2025-07-22 19:41:22
-2025-07-22 19:41:22
-2025-07-22 19:41:22
-2025-07-22 19:41:22
-2025-07-22 19:41:22
-2025-07-22 19:41:22
-2025-07-22 19:41:22
-2025-07-22 19:41:22
-2025-07-22 19:41:22
-2025-07-22 19:41:22
-2025-07-22 19:41:22
-2025-07-22 19:41:22
-2025-07-22 19:41:22
-2025-07-22 19:41:22
-2025-07-22 19:41:22
-2025-07-22 19:41:22
-2025-07-22 19:41:22
-2025-07-22 19:41:22
-2025-07-22 19:41:22
-2025-07-22 19:41:22
-2025-07-22 19:41:22
-2025-07-22 19:41:22
-2025-07-22 19:41:22
-2025-07-22 19:41:22
-2025-07-22 19:41:22
-2025-07-22 19:41:22
-2025-07-22 19:41:22
-2025-07-22 19:41:22
-2025-07-22 19:41:22
-2025-07-22 19:41:22
-2025-07-22 19:41:22
-2025-07-22 19:41:22
-2025-07-22 19:41:22
-2025-07-22 19:41:22
-2025-07-22 19:41:22
-2025-07-22 19:41:22
-2025-07-22 19:41:22
-2025-07-22 19:41:22
-2025-07-22 19:41:22
-2025-07-22 19:41:22
-2025-07-22 19:41:22
-2025-07-22 19:41:22
-2025-07-22 19:41:22
-2025-07-22 19:41:22
-2025-07-22 19:41:22
-2025-07-22 19:41:22
-2025-07-22 19:41:22
-2025-07-22 19:41:22
-2025-07-22 19:41:22
-2025-07-22 19:41:22
-2025-07-22 19:41:22
-2025-07-22 19:41:22
-2025-07-22 19:41:22
-2025-07-22 19:41:22
-2025-07-22 19:41:22
-2025-07-22 19:41:22
-2025-07-22 19:41:22
-2025-07-22 19:41:22
-2025-07-22 19:41:22
-2025-07-22 19:41:22
-2025-07-22 19:41:22
-2025-07-22 19:41:22
-2025-07-22 19:41:22
-2025-07-22 19:41:22
-2025-07-22 19:41:22
-2025-07-22 19:41:22
-2025-07-22 19:41:22
-2025-07-22 19:41:22
-2025-07-22 19:41:22
-2025-07-22 19:41:22
-2025-07-22 19:41:22
-2025-07-22 19:41:22
-2025-07-22 19:41:22
-2025-07-22 19:41:22
-2025-07-22 19:41:22
-2025-07-22 19:41:22
-2025-07-22 19:41:22
-2025-07-22 19:41:22
-2025-07-22 19:41:22
-2025-07-22 19:41:22
-2025-07-22 19:41:22
-2025-07-22 19:41:22
-2025-07-22 19:41:22
-2025-07-22 19:41:22
-2025-07-22 19:41:22
-2025-07-22 19:41:22
-2025-07-22 19:41:22
-2025-07-22 19:41:22
-2025-07-22 19:41:22
-2025-07-22 19:41:22
-2025-07-22 19:41:22
-2025-07-22 19:41:22
-2025-07-22 19:41:22
-2025-07-22 19:41:22
-2025-07-22 19:41:22
-2025-07-22 19:41:22
-2025-07-22 19:41:22
-2025-07-22 19:41:22
-2025-07-22 19:41:22
-2025-07-22 19:41:22
-2025-07-22 19:41:22
-2025-07-22 19:41:22
-2025-07-22 19:41:22
-2025-07-22 19:41:22
-2025-07-22 19:41:22
-2025-07-22 19:41:22
-2025-07-22 19:41:22
-2025-07-22 19:41:22
-2025-07-22 19:41:22
-2025-07-22 19:41:22
-2025-07-22 19:41:22
-2025-07-22 19:41:22
-2025-07-22 19:41:22
-2025-07-22 19:41:22
-2025-07-22 19:41:22
-2025-07-22 19:41:22
-2025-07-22 19:41:22
-2025-07-22 19:41:22
-2025-07-22 19:41:22
-2025-07-22 19:41:22
-2025-07-22 19:41:22
-2025-07-22 19:41:22
-2025-07-22 19:41:22
-2025-07-22 19:41:22
-2025-07-22 19:41:22
-2025-07-22 19:41:22
-2025-07-22 19:41:22
-2025-07-22 19:41:22
-2025-07-22 19:41:22
-2025-07-22 19:41:22
-2025-07-22 19:41:22
-2025-07-22 19:41:22
-2025-07-22 19:41:22
-2025-07-22 19:41:22
-2025-07-22 19:41:22
-2025-07-22 19:41:22
-2025-07-22 19:41:22
-2025-07-22 19:41:22
-2025-07-22 19:41:22
-2025-07-22 19:41:23
-2025-07-22 19:41:23
-2025-07-22 19:41:23
-2025-07-22 19:41:23
-2025-07-22 19:41:22
-2025-07-22 19:41:22
-2025-07-22 19:41:22
-2025-07-22 19:41:22
-2025-07-22 19:41:23
-2025-07-22 19:41:23
-2025-07-22 19:41:23
-2025-07-22 19:41:23
-2025-07-22 19:41:23
-2025-07-22 19:41:23
-2025-07-22 19:41:23
-2025-07-22 19:41:23
-2025-07-22 19:41:23
-2025-07-22 19:41:21
-2025-07-22 19:41:21
-2025-07-22 19:41:21
-2025-07-22 19:41:21
-2025-07-22 19:41:21
-2025-07-22 19:41:21
-2025-07-22 19:41:21
-2025-07-22 19:41:21
-2025-04-08 19:35:03
-2025-07-22 19:41:21
-2025-07-22 19:41:21
-2025-07-22 19:41:21
-2025-07-22 19:41:21
-2025-07-22 19:41:21
-2025-07-22 19:41:21
-2025-07-22 19:41:21
-2025-07-22 19:41:21
-2025-07-22 19:41:21
-2025-07-22 19:41:21
-2025-07-22 19:41:21
-2025-07-22 19:41:21
-2025-07-22 19:41:21
-2025-07-22 19:41:21
-2025-07-22 19:41:21
-2025-07-22 19:41:21
-2025-07-22 19:41:21
-2025-07-22 19:41:21
-2025-07-22 19:41:21
-2025-07-22 19:41:21
-2025-07-22 19:41:21
-2025-07-22 19:41:21
-2025-07-22 19:41:21
-2025-07-22 19:41:21
-2025-07-22 19:41:21
-2025-07-22 19:41:21
-2025-07-22 19:41:21
-2025-07-22 19:41:21
-2025-07-22 19:41:21
-2025-07-22 19:41:21
-2025-07-22 19:41:21
-2025-07-22 19:41:21
-2025-07-22 19:41:21
-2025-07-22 19:41:21
-2025-07-22 19:41:21
-2025-07-22 19:41:21
-2025-07-22 19:41:21
-2025-07-22 19:41:21
-2025-07-22 19:41:22
-2025-07-22 19:41:22
-2025-07-22 19:41:22
-2025-07-22 19:41:22
-2025-07-22 19:41:22
-2025-07-22 19:41:22
-2025-07-22 19:41:22
-2025-07-22 19:41:22
-2025-07-22 19:41:22
-2025-07-22 19:41:22
-2025-07-22 19:41:22
-2025-07-22 19:41:22
-2025-07-22 19:41:22
-2025-07-22 19:41:22
-2025-07-22 19:41:22
-2025-07-22 19:41:22
-2025-07-22 19:41:22
-2025-07-22 19:41:22
-2025-07-22 19:41:22
-2025-07-22 19:41:22
-2025-07-22 19:41:22
-2025-07-22 19:41:22
-2025-07-22 19:41:22
-2025-07-22 19:41:22
-2025-07-22 19:41:22
-2025-07-22 19:41:22
-2025-07-22 19:41:22
-2025-07-22 19:41:22
-2025-07-22 19:41:22
-2025-07-22 19:41:22
-2025-07-22 19:41:22
-2025-07-22 19:41:22
-2025-07-22 19:41:22
-2025-07-22 19:41:22
-2025-07-22 19:41:22
-2025-07-22 19:41:22
-2025-07-22 19:41:22
-2025-07-22 19:41:22
-2025-07-22 19:41:22
-2025-07-22 19:41:22
-2025-07-22 19:41:22
-2025-07-22 19:41:22
-2025-07-22 19:41:22
-2025-07-22 19:41:22
-2025-07-22 19:41:22
-2025-07-22 19:41:22
-2025-07-22 19:41:22
-2025-07-22 19:41:22
-2025-07-22 19:41:22
-2025-07-22 19:41:22
-2025-07-22 19:41:22
-2025-07-22 19:41:22
-2025-07-22 19:41:22
-2025-07-22 19:41:22
-2025-07-22 19:41:22
-2025-07-22 19:41:22
-2025-07-22 19:41:22
-2025-07-22 19:41:22
-2025-07-22 19:41:22
-2025-07-22 19:41:22
-2025-07-22 19:41:22
-2025-07-22 19:41:22
-2025-07-22 19:41:22
-2025-07-22 19:41:22
-2025-07-22 19:41:22
-2025-07-22 19:41:22
-2025-07-22 19:41:22
-2025-07-22 19:41:22
-2025-07-22 19:41:22
-2025-07-22 19:41:22
-2025-07-22 19:41:22
-2025-07-22 19:41:22
-2025-07-22 19:41:22
-2025-07-22 19:41:22
-2025-07-22 19:41:22
-2025-07-22 19:41:22
-2025-07-22 19:41:22
-2025-07-22 19:41:22
-2025-07-22 19:41:22
-2025-07-22 19:41:22
-2025-07-22 19:41:22
-2025-07-22 19:41:22
-2025-07-22 19:41:22
-2025-07-22 19:41:22
-2025-07-22 19:41:22
-2025-07-22 19:41:22
-2025-07-22 19:41:22
-2025-07-22 19:41:22
-2025-07-22 19:41:22
-2025-07-22 19:41:22
-2025-07-22 19:41:22
-2025-07-22 19:41:22
-2025-07-22 19:41:22
-2025-07-22 19:41:22
-2025-07-22 19:41:22
-2025-07-22 19:41:22
-2025-07-22 19:41:22
-2025-07-22 19:41:22
-2025-04-08 19:35:04
-2025-07-22 19:41:22
-2025-07-22 19:41:22
-2025-07-22 19:41:22
-2025-07-22 19:41:22
-2025-07-22 19:41:22
-2025-07-22 19:41:22
-2025-07-22 19:41:22
-2025-07-22 19:41:22
-2025-07-22 19:41:22
-2025-07-22 19:41:22
-2025-07-22 19:41:22
-2025-07-22 19:41:22
-2025-07-22 19:41:22
-2025-07-22 19:41:22
-2025-07-22 19:41:22
-2025-07-22 19:41:22
-2025-07-22 19:41:22
-2025-07-22 19:41:22
-2025-07-22 19:41:22
-2025-07-22 19:41:22
-2025-07-22 19:41:22
-2025-07-22 19:41:22
-2025-07-22 19:41:22
-2025-07-22 19:41:22
-2025-07-22 19:41:22
-2025-07-22 19:41:22
-2025-07-22 19:41:22
-2025-07-22 19:41:22
-2025-07-22 19:41:22
-2025-07-22 19:41:22
-2025-07-22 19:41:22
-2025-07-22 19:41:22
-2025-07-22 19:41:22
-2025-07-22 19:41:22
-2025-07-22 19:41:22
-2025-07-22 19:41:22
-2025-07-22 19:41:22
-2025-07-22 19:41:22
-2025-07-22 19:41:22
-2025-07-22 19:41:22
-2025-04-08 19:35:04
-2025-07-22 19:41:22
-2025-07-22 19:41:22
-2025-07-22 19:41:23
-2025-07-22 19:41:23
-2025-07-22 19:41:23
-2025-07-22 19:41:23
-2025-07-22 19:41:23
-2025-07-22 19:41:23
-2025-07-22 19:41:23
-2025-07-22 19:41:23
-2025-07-22 19:41:23
-2025-07-22 19:41:23
-2025-07-22 19:41:23
-2025-07-22 19:41:23
-2025-07-22 19:41:23
-2025-07-22 19:41:23
-2025-07-22 19:41:23
-2025-07-22 19:41:23
-2025-07-22 19:41:23
7.1 KiB2025-07-22 19:41:21
7.1 KiB2025-07-22 19:41:21
7.0 KiB2025-07-22 19:41:21
46.9 KiB2025-07-22 19:41:21
2.6 KiB2025-07-22 19:41:21
31.4 KiB2025-07-22 19:41:21
3.3 KiB2025-07-22 19:41:21
595.8 KiB2025-07-22 19:41:23
46.1 KiB2025-07-22 19:41:21
7.0 KiB2025-07-22 19:41:21
524.9 KiB2025-07-22 19:41:21
11.2 KiB2025-07-22 19:41:21
6.0 KiB2025-07-22 19:41:21
1.1 MiB2025-07-22 19:41:25
0 B2025-07-22 19:41:21