############################################################################## ############################################################################## ### ### Running command: ### ### rm -rf csawBook.book && mkdir csawBook.book && /Users/biocbuild/BBS/utils/deploy_book.py csawBook_1.18.0.tar.gz csawBook.book ### ############################################################################## ############################################################################## Deploying content from book tarball 'csawBook_1.18.0.tar.gz' to 'csawBook.book/csawBook/' ... OK