Package: OSCA.multisample Version: 1.17.0 Command: /Library/Frameworks/R.framework/Resources/bin/R CMD INSTALL OSCA.multisample StartedAt: 2025-10-15 06:15:47 -0400 (Wed, 15 Oct 2025) EndedAt: 2025-10-15 06:16:09 -0400 (Wed, 15 Oct 2025) EllapsedTime: 21.9 seconds RetCode: 0 Status: OK