Package: OSCA.multisample Version: 1.17.0 Command: rm -rf OSCA.multisample.book && mkdir OSCA.multisample.book && /Users/biocbuild/BBS/utils/deploy_book.py OSCA.multisample_1.17.0.tar.gz OSCA.multisample.book StartedAt: 2025-10-15 07:27:00 -0400 (Wed, 15 Oct 2025) EndedAt: 2025-10-15 07:27:02 -0400 (Wed, 15 Oct 2025) EllapsedTime: 1.5 seconds RetCode: 0 Status: OK DeployDestDir: OSCA.multisample.book Warnings: 0