Package: OSCA.multisample Version: 1.17.0 Command: /Library/Frameworks/R.framework/Resources/bin/R CMD build --keep-empty-dirs --no-resave-data OSCA.multisample StartedAt: 2025-10-15 06:17:04 -0400 (Wed, 15 Oct 2025) EndedAt: 2025-10-15 07:26:57 -0400 (Wed, 15 Oct 2025) EllapsedTime: 4193.1 seconds RetCode: 0 Status: OK PackageFile: OSCA.multisample_1.17.0.tar.gz PackageFileSize: 13.66 MiB