Package: OSCA.intro Version: 1.17.1 Command: /Library/Frameworks/R.framework/Resources/bin/R CMD INSTALL OSCA.intro StartedAt: 2025-10-15 06:15:15 -0400 (Wed, 15 Oct 2025) EndedAt: 2025-10-15 06:15:43 -0400 (Wed, 15 Oct 2025) EllapsedTime: 28.1 seconds RetCode: 0 Status: OK