Package: OSCA.intro Version: 1.17.1 Command: rm -rf OSCA.intro.book && mkdir OSCA.intro.book && /Users/biocbuild/BBS/utils/deploy_book.py OSCA.intro_1.17.1.tar.gz OSCA.intro.book StartedAt: 2025-10-15 07:27:00 -0400 (Wed, 15 Oct 2025) EndedAt: 2025-10-15 07:27:02 -0400 (Wed, 15 Oct 2025) EllapsedTime: 1.5 seconds RetCode: 0 Status: OK DeployDestDir: OSCA.intro.book Warnings: 0