Package: OSCA.intro Version: 1.17.1 Command: /Library/Frameworks/R.framework/Resources/bin/R CMD build --keep-empty-dirs --no-resave-data OSCA.intro StartedAt: 2025-10-15 06:17:04 -0400 (Wed, 15 Oct 2025) EndedAt: 2025-10-15 06:23:34 -0400 (Wed, 15 Oct 2025) EllapsedTime: 389.9 seconds RetCode: 0 Status: OK PackageFile: OSCA.intro_1.17.1.tar.gz PackageFileSize: 1.365 MiB