Package: OSCA.intro Version: 1.17.1 Command: /Library/Frameworks/R.framework/Resources/bin/R CMD INSTALL OSCA.intro StartedAt: 2025-10-24 06:45:23 -0400 (Fri, 24 Oct 2025) EndedAt: 2025-10-24 06:45:35 -0400 (Fri, 24 Oct 2025) EllapsedTime: 12.3 seconds RetCode: 0 Status: OK