Package: OSCA.intro Version: 1.17.1 Command: rm -rf OSCA.intro.book && mkdir OSCA.intro.book && /Users/biocbuild/BBS/utils/deploy_book.py OSCA.intro_1.17.1.tar.gz OSCA.intro.book StartedAt: 2025-10-22 06:58:47 -0400 (Wed, 22 Oct 2025) EndedAt: 2025-10-22 06:58:48 -0400 (Wed, 22 Oct 2025) EllapsedTime: 1.2 seconds RetCode: 0 Status: OK DeployDestDir: OSCA.intro.book Warnings: 0