Package: BiocBookDemo Version: 1.7.0 Command: rm -rf BiocBookDemo.book && mkdir BiocBookDemo.book && /Users/biocbuild/BBS/utils/deploy_book.py BiocBookDemo_1.7.0.tar.gz BiocBookDemo.book StartedAt: 2025-10-24 08:17:59 -0400 (Fri, 24 Oct 2025) EndedAt: 2025-10-24 08:18:00 -0400 (Fri, 24 Oct 2025) EllapsedTime: 1.1 seconds RetCode: 0 Status: OK DeployDestDir: BiocBookDemo.book Warnings: 0