Package: rhdf5 Version: 2.53.6 Maintainer: Hugo Gruson MaintainerEmail: hugo.gruson at embl.de git_url: https://git.bioconductor.org/packages/rhdf5 git_branch: devel git_last_commit: 919a739 git_last_commit_date: 2025-10-09 05:30:36 -0400 (Thu, 09 Oct 2025)