Package: mosdef Version: 1.5.1 Maintainer: Federico Marini MaintainerEmail: marinif at uni-mainz.de git_url: https://git.bioconductor.org/packages/mosdef git_branch: devel git_last_commit: 0964a99 git_last_commit_date: 2025-05-01 09:15:36 -0400 (Thu, 01 May 2025)