Package: midasHLA Version: 1.17.0 Command: F:\biocbuild\bbs-3.22-bioc\R\bin\R.exe CMD check --no-multiarch --test-dir=longtests --no-stop-on-test-error --no-codoc --no-examples --no-manual --ignore-vignettes --check-subdirs=no midasHLA_1.17.0.tar.gz StartedAt: 2025-08-09 16:10:34 -0400 (Sat, 09 Aug 2025) EndedAt: 2025-08-09 16:13:43 -0400 (Sat, 09 Aug 2025) EllapsedTime: 189.7 seconds RetCode: 1 Status: ERROR CheckDir: midasHLA.Rcheck Warnings: NA