Package: extraChIPs Version: 1.13.2 Command: F:\biocbuild\bbs-3.22-bioc\R\bin\R.exe CMD check --no-multiarch --test-dir=longtests --no-stop-on-test-error --no-codoc --no-examples --no-manual --ignore-vignettes --check-subdirs=no extraChIPs_1.13.2.tar.gz StartedAt: 2025-08-09 16:06:47 -0400 (Sat, 09 Aug 2025) EndedAt: 2025-08-09 16:12:24 -0400 (Sat, 09 Aug 2025) EllapsedTime: 337.4 seconds RetCode: 0 Status: OK CheckDir: extraChIPs.Rcheck Warnings: 0